BEGIN:VCALENDAR
VERSION:2.0
PRODID:-//chikkutakku.com//RDFCal 1.0//EN
X-WR-CALDESC:GoogleカレンダーやiCalendar形式情報を共有シェ
 アしましょう。近所のイベントから全国のイベントま
 で今日のイベント検索やスケジュールを決めるならち
 っくたっく
X-WR-CALNAME:ちっくたっく
X-WR-TIMEZONE:UTC
BEGIN:VEVENT
SUMMARY:○沼津市ニュービジネス創出事業補助金
DTSTART;VALUE=DATE-TIME:20260418T150000Z
DTEND;VALUE=DATE-TIME:20260519T150000Z
UID:134620047982
DESCRIPTION:○沼津市ニュービジネス創出事業補助金
LOCATION:
END:VEVENT
END:VCALENDAR
