BEGIN:VCALENDAR
VERSION:2.0
PRODID:-//chikkutakku.com//RDFCal 1.0//EN
X-WR-CALDESC:GoogleカレンダーやiCalendar形式情報を共有シェ
 アしましょう。近所のイベントから全国のイベントま
 で今日のイベント検索やスケジュールを決めるならち
 っくたっく
X-WR-CALNAME:ちっくたっく
X-WR-TIMEZONE:UTC
BEGIN:VEVENT
SUMMARY:現象としての人間 新版 新装版
DTSTART;VALUE=DATE:20260517
DTEND;VALUE=DATE:20260518
UID:135051912609
DESCRIPTION:2026-05-18現象としての人間 新版 新装版ピエー
 ル・テイヤール・ド・シャルダン/美田稔みすず書房
LOCATION:
END:VEVENT
END:VCALENDAR
