BEGIN:VCALENDAR
VERSION:2.0
PRODID:-//chikkutakku.com//RDFCal 1.0//EN
X-WR-CALDESC:GoogleカレンダーやiCalendar形式情報を共有シェ
 アしましょう。近所のイベントから全国のイベントま
 で今日のイベント検索やスケジュールを決めるならち
 っくたっく
X-WR-CALNAME:ちっくたっく
X-WR-TIMEZONE:UTC
BEGIN:VEVENT
SUMMARY:■BarSTAYTUNE■【第182回】
DTSTART;VALUE=DATE-TIME:20260424T130000Z
DTEND;VALUE=DATE-TIME:20260424T145900Z
UID:135383111565
DESCRIPTION:【イベント主催者】\n　〓KUMAchan〓\n【イベン
 ト内容】\n　ネガティブな夜もかき消すような素敵な居
 場所を提供します。今回特別営業としてさくらお花見
 ワールド巡りとかわいいポーズ研究＆映え動画撮影会
 を予定しております。\n【イベントジャンル】\n　店舗
 系イベント\, 定期イベント\n【参加条件（モデル、人数
 制限など）】\n　一般的な人型Humanoidまたは、過度な表
 現を伴わないアバターでお越しください。（雰囲気を
 壊すとスタッフが判断した場合アバターの変更をお願
 いすることがあります）\n【参加方法】\n　グループ( ht
 tps://vrc.group/BSTUNE.5114 )にご参加いただき、営業時間中に
 グループインスタンスへjoinしてください。(Group+で開催
 )\n【備考】\n　撮ったお写真は #BarSTAYTUNE でポストして
 いただけると嬉しいです。\nイベントPVはこちら\nhttps://
 youtu.be/KoG-cZJ5JMU\nワールド紹介についてはこちらをご覧
 ください。\nhttps://note.com/kumachan_/n/n447f54c3ea0a\n\n\nお洒落
 な空間で皆様をお待ちしております！
LOCATION:
END:VEVENT
END:VCALENDAR
