BEGIN:VCALENDAR
VERSION:2.0
PRODID:-//chikkutakku.com//RDFCal 1.0//EN
X-WR-CALDESC:GoogleカレンダーやiCalendar形式情報を共有シェ
 アしましょう。近所のイベントから全国のイベントま
 で今日のイベント検索やスケジュールを決めるならち
 っくたっく
X-WR-CALNAME:ちっくたっく
X-WR-TIMEZONE:UTC
BEGIN:VEVENT
SUMMARY:U13、TRM
DTSTART;VALUE=DATE:20260502
DTEND;VALUE=DATE:20260503
UID:135397564713
DESCRIPTION:10時 vs RESC（14時まで）\n\n※参加費2\,000円（全
 員送迎）\n\n※メンバーは決まり次第掲載します。\n\n※
 担当\n樋川コーチ
LOCATION:スカイランドHARADA\, 日本、〒664-0843 兵庫県伊丹
 市岩屋１丁目５−１０
END:VEVENT
END:VCALENDAR
