BEGIN:VCALENDAR
VERSION:2.0
PRODID:-//chikkutakku.com//RDFCal 1.0//EN
X-WR-CALDESC:GoogleカレンダーやiCalendar形式情報を共有シェ
 アしましょう。近所のイベントから全国のイベントま
 で今日のイベント検索やスケジュールを決めるならち
 っくたっく
X-WR-CALNAME:ちっくたっく
X-WR-TIMEZONE:UTC
BEGIN:VEVENT
SUMMARY:Frankenstein Movie Night
DTSTART;VALUE=DATE-TIME:20260508T003000Z
DTEND;VALUE=DATE-TIME:20260508T040000Z
UID:135543142737
DESCRIPTION:8th grade Frankenstein Movie NightPERMIT: 28JBDPC9K9U7
LOCATION:School of Engineering & Sciences\, 7345 Gloria Dr\, Sacramento\, 
 CA 95831\, USA
END:VEVENT
END:VCALENDAR
