BEGIN:VCALENDAR
VERSION:2.0
PRODID:-//chikkutakku.com//RDFCal 1.0//EN
X-WR-CALDESC:GoogleカレンダーやiCalendar形式情報を共有シェ
 アしましょう。近所のイベントから全国のイベントま
 で今日のイベント検索やスケジュールを決めるならち
 っくたっく
X-WR-CALNAME:ちっくたっく
X-WR-TIMEZONE:UTC
BEGIN:VEVENT
SUMMARY:10th Gr Seminar - El Camino Health
DTSTART;VALUE=DATE-TIME:20260505T193000Z
DTEND;VALUE=DATE-TIME:20260505T203000Z
UID:136432219437
DESCRIPTION:10th Gr Seminar - El Camino Health
LOCATION:Multi
END:VEVENT
END:VCALENDAR
