BEGIN:VCALENDAR
VERSION:2.0
PRODID:-//chikkutakku.com//RDFCal 1.0//EN
X-WR-CALDESC:GoogleカレンダーやiCalendar形式情報を共有シェ
 アしましょう。近所のイベントから全国のイベントま
 で今日のイベント検索やスケジュールを決めるならち
 っくたっく
X-WR-CALNAME:ちっくたっく
X-WR-TIMEZONE:UTC
BEGIN:VEVENT
SUMMARY:ダブルミラーの件
DTSTART;VALUE=DATE-TIME:20260422T233000Z
DTEND;VALUE=DATE-TIME:20260423T003000Z
UID:137332412796
DESCRIPTION:ダブルミラーの件
LOCATION:
END:VEVENT
END:VCALENDAR
