BEGIN:VCALENDAR
VERSION:2.0
PRODID:-//chikkutakku.com//RDFCal 1.0//EN
X-WR-CALDESC:GoogleカレンダーやiCalendar形式情報を共有シェ
 アしましょう。近所のイベントから全国のイベントま
 で今日のイベント検索やスケジュールを決めるならち
 っくたっく
X-WR-CALNAME:ちっくたっく
X-WR-TIMEZONE:UTC
BEGIN:VEVENT
SUMMARY:【Android 対応】BarFREEDOM【自由にやりたいBar】
DTSTART;VALUE=DATE-TIME:20260425T130000Z
DTEND;VALUE=DATE-TIME:20260425T150000Z
UID:137380198838
DESCRIPTION:【イベント主催者】\n　kitune1・Akimazuri\n【イベ
 ント内容】\n　決まったコンセプト無しの初心者向けBar
 イベント！\nロールプレイ強制なし！堅苦しいルールも
 なし！\n客もスタッフも自由にいきたい、そんなお店で
 す。\nただ美味しくお酒を呑みたい方に、オススメ。\n
 ただ脈絡なく喋っていきたい方も、オススメ。\nVRゴー
 グル・スマホ・PC 単体でもOK！\nQuest対応済みですので
 、ご安心ください。\nイベント未経験、visitorも是非き
 てね。大歓迎。\n【イベントジャンル】\n　VR飲み会\, 
 店舗系イベント\, 初心者向けイベント\n【参加条件（モ
 デル、人数制限など）】\n　◎：0.8～1.6m のアバター（
 いい感じに座れます）\n△：処理量が多め（重め）のア
 バター\n✖：規約上、許可されていないアバター\n✖：
 視覚・音響効果が激しいアバター\n開場中の諸問題につ
 いては、適宜対応します。\n【参加方法】\n　①グルー
 プ "Bar FREEDOM" に参加\n（http://vrc.group/BFD.0572／コード：BF
 D.0572）\n②グループ画面の「インスタンス」タブから会
 場へGO!\n【備考】\n　公式アカウント：Bar FREEDOM（@VRC_Bar
 FD）\nご連絡は、▲コチラ▲ にお願いいたします。
LOCATION:
END:VEVENT
END:VCALENDAR
