BEGIN:VCALENDAR
VERSION:2.0
PRODID:-//chikkutakku.com//RDFCal 1.0//EN
X-WR-CALDESC:GoogleカレンダーやiCalendar形式情報を共有シェ
 アしましょう。近所のイベントから全国のイベントま
 で今日のイベント検索やスケジュールを決めるならち
 っくたっく
X-WR-CALNAME:ちっくたっく
X-WR-TIMEZONE:UTC
BEGIN:VEVENT
SUMMARY:【注】勘違いの工房主 #1 自己評価の低い雑用係
 が、実はとんでもスキルの持ち主だったというよくあ
 る話 / #2 はじめての工房 / #3 彼にとっての採掘 / #4 新
 工房の新しい仲間 / #5 四面楚歌の辺境町 / #6 四方八方
 の九方目 / #7 不思議な卵の新米パパ / #8 アクリのびゅ
 んっ / #9 リーゼの告白 / #10 ユーリシアのデート / #11 辺
 境伯の秘密 / #12 英雄パーティの元雑用係が、実は戦闘
 以外がSSSランクだったというよくある話
DTSTART;VALUE=DATE-TIME:20260421T003000Z
DTEND;VALUE=DATE-TIME:20260421T063000Z
UID:137463365783
DESCRIPTION: / #1 自己評価の低い雑用係が、実はとんでも
 スキルの持ち主だったというよくある話 / #2 はじめて
 の工房 / #3 彼にとっての採掘 / #4 新工房の新しい仲間 /
  #5 四面楚歌の辺境町 / #6 四方八方の九方目 / #7 不思議
 な卵の新米パパ / #8 アクリのびゅんっ / #9 リーゼの告
 白 / #10 ユーリシアのデート / #11 辺境伯の秘密 / #12 英
 雄パーティの元雑用係が、実は戦闘以外がSSSランクだ
 ったというよくある話 / https://abema.tv/channels/anime-live/slot
 s/Ah77kpDKWtNnCP リピート放送は 24:00～ https://abema.tv/channels/
 anime-live/slots/EvABNjyyQSZEnB (無料TS1週間)
LOCATION:アニメLIVE
END:VEVENT
END:VCALENDAR
