BEGIN:VCALENDAR
VERSION:2.0
PRODID:-//chikkutakku.com//RDFCal 1.0//EN
X-WR-CALDESC:GoogleカレンダーやiCalendar形式情報を共有シェ
 アしましょう。近所のイベントから全国のイベントま
 で今日のイベント検索やスケジュールを決めるならち
 っくたっく
X-WR-CALNAME:ちっくたっく
X-WR-TIMEZONE:UTC
BEGIN:VEVENT
SUMMARY:X年後の関係者たち #115 「「劇伴作家」ゲスト：
 千住明、菅野祐悟、冨田明宏」
DTSTART;VALUE=DATE-TIME:20260423T120000Z
DTEND;VALUE=DATE-TIME:20260423T125400Z
UID:138207446624
DESCRIPTION:115 / 「劇伴作家」ゲスト：千住明、菅野祐悟
 、冨田明宏 / 
LOCATION:BS-TBS
END:VEVENT
END:VCALENDAR
