BEGIN:VCALENDAR
VERSION:2.0
PRODID:-//chikkutakku.com//RDFCal 1.0//EN
X-WR-CALDESC:GoogleカレンダーやiCalendar形式情報を共有シェ
 アしましょう。近所のイベントから全国のイベントま
 で今日のイベント検索やスケジュールを決めるならち
 っくたっく
X-WR-CALNAME:ちっくたっく
X-WR-TIMEZONE:UTC
BEGIN:VEVENT
SUMMARY:In Cairns - Quaid Real Estate v Cairns Regional Council - Appeal 1
 16 of 2025
DTSTART;VALUE=DATE-TIME:20260507T230000Z
DTEND;VALUE=DATE-TIME:20260508T070000Z
UID:138340505728
DESCRIPTION:In Cairns - Quaid Real Estate v Cairns Regional Council - Appe
 al 116 of 2025
LOCATION:
END:VEVENT
END:VCALENDAR
