BEGIN:VCALENDAR
VERSION:2.0
PRODID:-//chikkutakku.com//RDFCal 1.0//EN
X-WR-CALDESC:GoogleカレンダーやiCalendar形式情報を共有シェ
 アしましょう。近所のイベントから全国のイベントま
 で今日のイベント検索やスケジュールを決めるならち
 っくたっく
X-WR-CALNAME:ちっくたっく
X-WR-TIMEZONE:UTC
BEGIN:VEVENT
SUMMARY:Apertura “NeuroPalma” 
DTSTART;VALUE=DATE-TIME:20260425T080000Z
DTEND;VALUE=DATE-TIME:20260425T080000Z
UID:138428277843
DESCRIPTION:25 al 26 de abril en horario de 9 a 13.30 hs. + INFO
LOCATION:IES Las Breñas
END:VEVENT
END:VCALENDAR
