BEGIN:VCALENDAR
VERSION:2.0
PRODID:-//chikkutakku.com//RDFCal 1.0//EN
X-WR-CALDESC:GoogleカレンダーやiCalendar形式情報を共有シェ
 アしましょう。近所のイベントから全国のイベントま
 で今日のイベント検索やスケジュールを決めるならち
 っくたっく
X-WR-CALNAME:ちっくたっく
X-WR-TIMEZONE:UTC
BEGIN:VEVENT
SUMMARY:ニンジャスレイヤー　キルゾーン・スモトリ　カ
 ラーライズ版　第一部　ネオサイタマ・イン・フレイ
 ム
DTSTART;VALUE=DATE:20260429
DTEND;VALUE=DATE:20260430
UID:139075895339
DESCRIPTION:2026-04-30ニンジャスレイヤー　キルゾーン・ス
 モトリ　カラーライズ版　第一部　ネオサイタマ・イ
 ン・フレイムブラッドレー・ボンド＋フィリップ・Ｎ
 ・モーゼズ/余湖裕輝/田畑由秋/本兌有・杉ライカ/わら
 いなく・余湖裕輝KADOKAWA
LOCATION:
END:VEVENT
END:VCALENDAR
