BEGIN:VCALENDAR
VERSION:2.0
PRODID:-//chikkutakku.com//RDFCal 1.0//EN
X-WR-CALDESC:GoogleカレンダーやiCalendar形式情報を共有シェ
 アしましょう。近所のイベントから全国のイベントま
 で今日のイベント検索やスケジュールを決めるならち
 っくたっく
X-WR-CALNAME:ちっくたっく
X-WR-TIMEZONE:UTC
BEGIN:VEVENT
SUMMARY:完全個室1:1接客 キャバイベント LUXURIA
DTSTART;VALUE=DATE-TIME:20260422T130000Z
DTEND;VALUE=DATE-TIME:20260422T143000Z
UID:139108120655
DESCRIPTION:【イベント主催者】\n　いざよい338\n【イベン
 ト内容】\n　完全個室 接客 キャバイベント1:1 1:2 2:1 2:2
 から選べる\n【イベントジャンル】\n　その他交流会\, 
 店舗系イベント\, 初心者向けイベント\, 定期イベント\n
 【参加条件（モデル、人数制限など）】\n　1人推奨\n2
 人一組OK（片方当選したらOK）\n異形人外不可（角、耳
 、ヘイロー程度はOK）\n50mb以下\n性別問わず\n【参加方
 法】\n　https://sites.google.com/view/vrcluxuria\nから事前応募制
 （前日23:00締め切り）\n【備考】\n　水曜日隔週でホス
 ト形式とキャバクラ形式が入れ替わる\n（Host Side ／ Caba
 ret Side）\n完全個室制の接客型雑談イベントです。\n\n本
 イベントでは、\n1：1／1：2／2：1／2：2 の接客形式を採
 用し、事前アンケートに基づき、ご希望に沿った組み
 合わせを設定いたします。\n接客は一枠 15分、これを 3
 ローテーション 行う構成となっており、限られた時間
 の中で、落ち着いた対話をお楽しみいただけます。\n\n
 空間演出は、豪華さと妖艶さを基調としつつ、大人の
 品位と節度を重んじた設えとしております。\n\n本イベ
 ントにおける接客は、過度な身体的接触や極端な距離
 感、色恋を前提とした演出、アダルトな要素を主眼と
 するものではございません。\n\nあくまで「会話」を軸
 とした、言葉と所作による上質な接客体験を大切にし
 ております。\n\n日常から切り離された完全個室の空間
 にて、上質で特別な時間を、静かにお過ごしください
LOCATION:
END:VEVENT
END:VCALENDAR
