BEGIN:VCALENDAR
VERSION:2.0
PRODID:-//chikkutakku.com//RDFCal 1.0//EN
X-WR-CALDESC:GoogleカレンダーやiCalendar形式情報を共有シェ
 アしましょう。近所のイベントから全国のイベントま
 で今日のイベント検索やスケジュールを決めるならち
 っくたっく
X-WR-CALNAME:ちっくたっく
X-WR-TIMEZONE:UTC
BEGIN:VEVENT
SUMMARY:ALTTPR League S8 Invitational: The Good\, The Beer\, and The Agent
 _Don't Forget to Track Us
DTSTART;VALUE=DATE-TIME:20260420T030000Z
DTEND;VALUE=DATE-TIME:20260420T053000Z
UID:139308120248
DESCRIPTION:A Link to the Past Randomizer Invitational League Season 8\nho
 memadebeer vs prdwong\nhttp://twitch.tv/SpeedGaming\n\n\n[updated 2026-04-
 19T03:03:49+00:00]
LOCATION:
END:VEVENT
END:VCALENDAR
