BEGIN:VCALENDAR
VERSION:2.0
PRODID:-//chikkutakku.com//RDFCal 1.0//EN
X-WR-CALDESC:GoogleカレンダーやiCalendar形式情報を共有シェ
 アしましょう。近所のイベントから全国のイベントま
 で今日のイベント検索やスケジュールを決めるならち
 っくたっく
X-WR-CALNAME:ちっくたっく
X-WR-TIMEZONE:UTC
BEGIN:VEVENT
SUMMARY:【注】ザ☆ウルトラマン #31 ウルトラの女戦士 / #
 32 宇宙からの物体X / #33 GO!!マグマの決死圏 / #34 盗まれ
 た怪獣収容星(前編) / #35 盗まれた怪獣収容星(後編) / #36
  宇宙から来た雪女 / #37 ウルトラの星U40の危機!!ウルト
 リアの謎？ / #38 ウルトラ大戦争!!巨大戦闘艦ウルトリ
 ア出撃 / #39 ねらわれた巨大戦闘艦ウルトリア / #40 怪獣
 を連れた少年
DTSTART;VALUE=DATE-TIME:20260422T190000Z
DTEND;VALUE=DATE-TIME:20260423T000000Z
UID:139927942795
DESCRIPTION: / #31 ウルトラの女戦士 / #32 宇宙からの物体X /
  #33 GO!!マグマの決死圏 / #34 盗まれた怪獣収容星(前編) /
  #35 盗まれた怪獣収容星(後編) / #36 宇宙から来た雪女 / 
 #37 ウルトラの星U40の危機!!ウルトリアの謎？ / #38 ウル
 トラ大戦争!!巨大戦闘艦ウルトリア出撃 / #39 ねらわれ
 た巨大戦闘艦ウルトリア / #40 怪獣を連れた少年 / ([[フ
 ァミリーアニメ2 https://abema.tv/timetable/channels/family-anime-2]
 ]) https://abema.tv/channels/family-anime-2/slots/AkN7YpwUFbDt2T リピー
 ト放送は 4/23(木) 13:30～ https://abema.tv/channels/family-anime-2/s
 lots/Ah77pSKC15eqx3 、4/23(木) 23:00～ https://abema.tv/channels/family
 -anime-2/slots/Ah77n2aiMmgyY3 (無料TS1週間) https://prtimes.jp/main/ht
 ml/rd/p/000002330.000064643.html
LOCATION:ABEMA特設その他
END:VEVENT
END:VCALENDAR
