BEGIN:VCALENDAR
VERSION:2.0
PRODID:-//chikkutakku.com//RDFCal 1.0//EN
X-WR-CALDESC:GoogleカレンダーやiCalendar形式情報を共有シェ
 アしましょう。近所のイベントから全国のイベントま
 で今日のイベント検索やスケジュールを決めるならち
 っくたっく
X-WR-CALNAME:ちっくたっく
X-WR-TIMEZONE:UTC
BEGIN:VEVENT
SUMMARY:生殖医療・生命・セクシュアリティ
DTSTART;VALUE=DATE:20260423
DTEND;VALUE=DATE:20260424
UID:140327188979
DESCRIPTION:2026-04-24生殖医療・生命・セクシュアリティ建
 石 真公子/建石 真公子/成澤 光/成澤 光法政大学出版局
LOCATION:
END:VEVENT
END:VCALENDAR
