BEGIN:VCALENDAR
VERSION:2.0
PRODID:-//chikkutakku.com//RDFCal 1.0//EN
X-WR-CALDESC:GoogleカレンダーやiCalendar形式情報を共有シェ
 アしましょう。近所のイベントから全国のイベントま
 で今日のイベント検索やスケジュールを決めるならち
 っくたっく
X-WR-CALNAME:ちっくたっく
X-WR-TIMEZONE:UTC
BEGIN:VEVENT
SUMMARY:ViVi (ヴィヴィ) 2026年7月・8月合併号 [雑誌] 通常版
  表紙：村上愛花 特別付録：ViVi推し・メロ肌＆サラ髪
 体験コスメSet
DTSTART;VALUE=DATE:20260521
DTEND;VALUE=DATE:20260522
UID:140946795375
DESCRIPTION:2026-05-22ViVi (ヴィヴィ) 2026年7月・8月合併号 [雑
 誌] 通常版 表紙：村上愛花 特別付録：ViVi推し・メロ肌
 ＆サラ髪体験コスメSet講談社
LOCATION:
END:VEVENT
END:VCALENDAR
