BEGIN:VCALENDAR
VERSION:2.0
PRODID:-//chikkutakku.com//RDFCal 1.0//EN
X-WR-CALDESC:GoogleカレンダーやiCalendar形式情報を共有シェ
 アしましょう。近所のイベントから全国のイベントま
 で今日のイベント検索やスケジュールを決めるならち
 っくたっく
X-WR-CALNAME:ちっくたっく
X-WR-TIMEZONE:UTC
BEGIN:VEVENT
SUMMARY:1年 TRM グラシア相模原JY 12時KO(座間G)
DTSTART;VALUE=DATE-TIME:20260426T030000Z
DTEND;VALUE=DATE-TIME:20260426T053000Z
UID:141138205192
DESCRIPTION:30×3
LOCATION:
END:VEVENT
END:VCALENDAR
