BEGIN:VCALENDAR
VERSION:2.0
PRODID:-//chikkutakku.com//RDFCal 1.0//EN
X-WR-CALDESC:GoogleカレンダーやiCalendar形式情報を共有シェ
 アしましょう。近所のイベントから全国のイベントま
 で今日のイベント検索やスケジュールを決めるならち
 っくたっく
X-WR-CALNAME:ちっくたっく
X-WR-TIMEZONE:UTC
BEGIN:VEVENT
SUMMARY:Daigo the BeasTV
DTSTART;VALUE=DATE-TIME:20260513T040000Z
DTEND;VALUE=DATE-TIME:20260514T040000Z
UID:141428901493
DESCRIPTION:https://www.twitch.tv/daigothebeastv\n\n\n通过 Google Hangou
 ts 加入：https://plus.google.com/hangouts/_/coredump.io/coredump?hceid=
 Y29yZWR1bXBAY29yZWR1bXAuaW8.soermndmafglvhgktti1432crs&hs=121
LOCATION:
END:VEVENT
END:VCALENDAR
