BEGIN:VCALENDAR
VERSION:2.0
PRODID:-//chikkutakku.com//RDFCal 1.0//EN
X-WR-CALDESC:GoogleカレンダーやiCalendar形式情報を共有シェ
 アしましょう。近所のイベントから全国のイベントま
 で今日のイベント検索やスケジュールを決めるならち
 っくたっく
X-WR-CALNAME:ちっくたっく
X-WR-TIMEZONE:UTC
BEGIN:VEVENT
SUMMARY:10km Handicap Run Event 4 (mass start). 7:00am start from Bradbury
  / Huff and Puff (Thirlmere)
DTSTART;VALUE=DATE-TIME:20260523T210000Z
DTEND;VALUE=DATE-TIME:20260523T230000Z
UID:141556429371
DESCRIPTION:https://www.mapmyrun.com/routes/view/5415356365
LOCATION:
END:VEVENT
END:VCALENDAR
