BEGIN:VCALENDAR
VERSION:2.0
PRODID:-//chikkutakku.com//RDFCal 1.0//EN
X-WR-CALDESC:GoogleカレンダーやiCalendar形式情報を共有シェ
 アしましょう。近所のイベントから全国のイベントま
 で今日のイベント検索やスケジュールを決めるならち
 っくたっく
X-WR-CALNAME:ちっくたっく
X-WR-TIMEZONE:UTC
BEGIN:VEVENT
SUMMARY:社會情緒學習講座-【用一杯咖啡照顧自己】咖啡
 沖泡x情緒覺察(前鎮)
DTSTART;VALUE=DATE-TIME:20260508T060000Z
DTEND;VALUE=DATE-TIME:20260508T080000Z
UID:142105790545
DESCRIPTION:社會情緒學習講座-【用一杯咖啡照顧自己】咖
 啡沖泡x情緒覺察(前鎮)
LOCATION:
END:VEVENT
END:VCALENDAR
