BEGIN:VCALENDAR
VERSION:2.0
PRODID:-//chikkutakku.com//RDFCal 1.0//EN
X-WR-CALDESC:GoogleカレンダーやiCalendar形式情報を共有シェ
 アしましょう。近所のイベントから全国のイベントま
 で今日のイベント検索やスケジュールを決めるならち
 っくたっく
X-WR-CALNAME:ちっくたっく
X-WR-TIMEZONE:UTC
BEGIN:VEVENT
SUMMARY:デコレーションポーチ for Nintendo Switch™ 2 METAMON
DTSTART;VALUE=DATE:20260429
DTEND;VALUE=DATE:20260430
UID:142320268151
DESCRIPTION:2026-04デコレーションポーチ for Nintendo Switch™ 2
  METAMONHORI
LOCATION:
END:VEVENT
END:VCALENDAR
