BEGIN:VCALENDAR
VERSION:2.0
PRODID:-//chikkutakku.com//RDFCal 1.0//EN
X-WR-CALDESC:GoogleカレンダーやiCalendar形式情報を共有シェ
 アしましょう。近所のイベントから全国のイベントま
 で今日のイベント検索やスケジュールを決めるならち
 っくたっく
X-WR-CALNAME:ちっくたっく
X-WR-TIMEZONE:UTC
BEGIN:VEVENT
SUMMARY:関内 スピークロウ / 葵めぐみ(Vo)
DTSTART;VALUE=DATE-TIME:20260423T103000Z
DTEND;VALUE=DATE-TIME:20260423T133000Z
UID:142507216086
DESCRIPTION:045-263-6777https://speaklow.shopinfo.jp/
LOCATION:スピークロウ\, 日本、〒231-0014 神奈川県横浜市
 中区常盤町２丁目2−１１ 行ビル 2F
END:VEVENT
END:VCALENDAR
