BEGIN:VCALENDAR
VERSION:2.0
PRODID:-//chikkutakku.com//RDFCal 1.0//EN
X-WR-CALDESC:GoogleカレンダーやiCalendar形式情報を共有シェ
 アしましょう。近所のイベントから全国のイベントま
 で今日のイベント検索やスケジュールを決めるならち
 っくたっく
X-WR-CALNAME:ちっくたっく
X-WR-TIMEZONE:UTC
BEGIN:VEVENT
SUMMARY:【Android 対応】金曜日はソーラン節を踊ろう！
DTSTART;VALUE=DATE-TIME:20260424T113000Z
DTEND;VALUE=DATE-TIME:20260424T120000Z
UID:142535088232
DESCRIPTION:【イベント主催者】\n　maguro_\n【イベント内容
 】\n　ソーラン節を踊るだけのイベントです。\n2回×2セ
 ット踊ります(途中参加・途中退室OK)\n初めての方でも
 大歓迎です！\n皆さまの参加お待ちしてます！\n【イベ
 ントジャンル】\n　その他交流会\n【参加条件（モデル
 、人数制限など）】\n　特になし(デスクトップでも参
 加OK！)\n【参加方法】\n　Group(SORAN.3650)にJoin\n【備考】\n
 　
LOCATION:
END:VEVENT
END:VCALENDAR
