BEGIN:VCALENDAR
VERSION:2.0
PRODID:-//chikkutakku.com//RDFCal 1.0//EN
X-WR-CALDESC:GoogleカレンダーやiCalendar形式情報を共有シェ
 アしましょう。近所のイベントから全国のイベントま
 で今日のイベント検索やスケジュールを決めるならち
 っくたっく
X-WR-CALNAME:ちっくたっく
X-WR-TIMEZONE:UTC
BEGIN:VEVENT
SUMMARY:【注】岸辺露伴は動かない(実写版) #10 「泉京香
 は黙らない」
DTSTART;VALUE=DATE-TIME:20260504T123000Z
DTEND;VALUE=DATE-TIME:20260504T133000Z
UID:142830200965
DESCRIPTION:10 / 泉京香は黙らない / 
LOCATION:NHK総合
END:VEVENT
END:VCALENDAR
