BEGIN:VCALENDAR
VERSION:2.0
PRODID:-//chikkutakku.com//RDFCal 1.0//EN
X-WR-CALDESC:GoogleカレンダーやiCalendar形式情報を共有シェ
 アしましょう。近所のイベントから全国のイベントま
 で今日のイベント検索やスケジュールを決めるならち
 っくたっく
X-WR-CALNAME:ちっくたっく
X-WR-TIMEZONE:UTC
BEGIN:VEVENT
SUMMARY:【注】戦闘員、派遣します！ #1 工作員、派遣し
 ます！ / #2 商売仇を蹂躙せよ / #3 正しい塔の攻略法 / #4
  悪の幹部の倒し方 / #5 ヒーローになるために / #6 戦闘
 員、派遣します！ / #7 ペテン師系婚活女子 / #8 腹黒系
 汚職騎士 / #9 肉食系女子キメラ / #10 キサラギ幹部、配
 信します！ / #11 悪の幹部の泣かせ方 / #12 強い相棒と賢
 い相棒
DTSTART;VALUE=DATE-TIME:20260424T050000Z
DTEND;VALUE=DATE-TIME:20260424T110000Z
UID:143049051732
DESCRIPTION: / #1 工作員、派遣します！ / #2 商売仇を蹂躙
 せよ / #3 正しい塔の攻略法 / #4 悪の幹部の倒し方 / #5 
 ヒーローになるために / #6 戦闘員、派遣します！ / #7 
 ペテン師系婚活女子 / #8 腹黒系汚職騎士 / #9 肉食系女
 子キメラ / #10 キサラギ幹部、配信します！ / #11 悪の幹
 部の泣かせ方 / #12 強い相棒と賢い相棒 / ([[アニメSPECIAL
 2 https://abema.tv/timetable/channels/anime-special-2]]) https://abema.tv/
 channels/anime-special-2/slots/Ah77nvdndaszFq リピート放送は 20:00
 ～ https://abema.tv/channels/anime-special-2/slots/Ah77qMaUgPmD7M (無料
 TS1週間)
LOCATION:ABEMA特設その他
END:VEVENT
END:VCALENDAR
