BEGIN:VCALENDAR
VERSION:2.0
PRODID:-//chikkutakku.com//RDFCal 1.0//EN
X-WR-CALDESC:GoogleカレンダーやiCalendar形式情報を共有シェ
 アしましょう。近所のイベントから全国のイベントま
 で今日のイベント検索やスケジュールを決めるならち
 っくたっく
X-WR-CALNAME:ちっくたっく
X-WR-TIMEZONE:UTC
BEGIN:VEVENT
SUMMARY:งาน Postgraduate Journey at DTMU เรียนต่อท
 ี่ไหนดี? เรียนต่อที่ทันตฯ 
 มหิดล  ข่าวประชาสัมพันธ์จา
 ก : งานบริหารการศึกษาหลังป
 ริญญา
DTSTART;VALUE=DATE-TIME:20260518T020000Z
DTEND;VALUE=DATE-TIME:20260518T090000Z
UID:143109030706
DESCRIPTION:ขอเชิญ ทันตแพทย์และบุ
 คลากรที่สนใจศึกษาต่อในระ
 ดับหลังปริญญาเข้าร่วมงาน P
 ostgraduate Journey at DTMUเรียนต่อที่ไหนด
 ี? เรียนต่อที่ทันตฯ มหิดลข
 ่าวประชาสัมพันธ์จาก : งานบ
 ริหารการศึกษาหลังปริญญาว
 ิทยากร โดย👩‍🔬รองศาสตราจา
 รย์ ทันตแพทย์หญิงประภาศรี 
 ริรัตนพงษ์รองคณบดีฝ่ายวิ
 ชาการและการศึกษาหลังปริญ
 ญา👨‍🔬อาจารย์ ทันตแพทย์ปิ
 ยะวุฒิ ฐิติศักดิ์โยธิน👩‍
 🔬ผู้ช่วยศาสตราจารย์ ทันตแ
 พทย์หญิงสุขกาญจน์ เต็มคำข
 วัญผู้ช่วยคณบดีฝ่ายวิชาก
 ารและการศึกษาหลังปริญญา👨
 ‍🔬อาจารย์ ทันตแพทย์สิทธิช
 ัย ทับสุวรรณ์⏰ วันเวลาที่เ
 ริ่มงาน : 18 พฤษภาคม 2569 เวลา 09.00 -
  16.00 น.📍สถานที่ : ณ ห้องประชุม
 เทพรัตนทันตกิจสโมสร ชั้น 4 
 อาคารเฉลิมพระเกียรติ 50 พรร
 ษาเปิดรับลงทะเบียน ถึง 18 เม
 ษายน 2569 (ไม่มีค่าลงทะเบียน) 
 ได้ที่ : https://docs.google.com/forms/d/e/1FAIpQLSeCCCaoWZvLw
 xwI8Y6Lp-okbO4KniakUx8qPuTqhPZmGdj63g/viewform(ได้รับใบเ
 กียรติบัตรการเข้าร่วมงาน 
 ผู้ลงทะเบียนได้รับ CDEC 5.5 credits)
 ☎️ ติดต่อสอบถาม : งานบริหาร
 การศึกษาหลังปริญญา โทร. 02 200 7
 642📧 dtmucdec@mahidol.ac.thLink ข่าวประชาสัมพ
 ันธ์ : https://dt.mahidol.ac.th/news/news-20260306-2/
LOCATION:ณ ห้องประชุมเทพรัตนทัน
 ตกิจสโมสร ชั้น 4 อาคารเฉลิม
 พระเกียรติ 50 พรรษา
END:VEVENT
END:VCALENDAR
