BEGIN:VCALENDAR
VERSION:2.0
PRODID:-//chikkutakku.com//RDFCal 1.0//EN
X-WR-CALDESC:GoogleカレンダーやiCalendar形式情報を共有シェ
 アしましょう。近所のイベントから全国のイベントま
 で今日のイベント検索やスケジュールを決めるならち
 っくたっく
X-WR-CALNAME:ちっくたっく
X-WR-TIMEZONE:UTC
BEGIN:VEVENT
SUMMARY:Bar "Polaris" 
DTSTART;VALUE=DATE-TIME:20260426T130000Z
DTEND;VALUE=DATE-TIME:20260426T140000Z
UID:143681635665
DESCRIPTION:【イベント主催者】\n　だめこさん\n【イベン
 ト内容】\n　北極星に導かれ、静かなひとときを。\n歌
 と会話を楽しむ隠れ家BARです。\n\n少人数制の雑談イベ
 ントです\n途中入場、途中退出OK\n時々スタッフ件歌姫
 がステージで歌います\n【イベントジャンル】\n　その
 他交流会\n【参加条件（モデル、人数制限など）】\n　
 上限4名\n【参加方法】\n　Group「ASTRA.1491」に参加もしく
 は主催「だめこさん」にフレンド申請後、営業時間にJO
 IN\n【備考】\n　視界ジャック、巨大アバターはBANされ
 る可能性があります\nTPOを守ったアバターで参加してく
 ださい。\n紳士的な発言を心がけましょう。
LOCATION:
END:VEVENT
END:VCALENDAR
