BEGIN:VCALENDAR
VERSION:2.0
PRODID:-//chikkutakku.com//RDFCal 1.0//EN
X-WR-CALDESC:GoogleカレンダーやiCalendar形式情報を共有シェ
 アしましょう。近所のイベントから全国のイベントま
 で今日のイベント検索やスケジュールを決めるならち
 っくたっく
X-WR-CALNAME:ちっくたっく
X-WR-TIMEZONE:UTC
BEGIN:VEVENT
SUMMARY:(มอบ ผช.พรศิลป์/ทีม 2) ร่วม
 รัฐพิธีวันที่ระลึกคล้ายว
 ันสวรรคต “สมเด็จพระนเรศวร
 มหาราช” ณ ห้องประชุมชั้น 5 อ
 าคารเทพา ศาลากลางจังหวัดฯ 
 การแต่งกาย เครื่องแบบปกติ
 ขาว ไว้ทุกข์ ไม่สวมหมวก 
DTSTART;VALUE=DATE-TIME:20260425T010000Z
DTEND;VALUE=DATE-TIME:20260425T023000Z
UID:144233079827
DESCRIPTION:(มอบ ผช.พรศิลป์/ทีม 2) ร่ว
 มรัฐพิธีวันที่ระลึกคล้าย
 วันสวรรคต “สมเด็จพระนเรศว
 รมหาราช” ณ ห้องประชุมชั้น 5 
 อาคารเทพา ศาลากลางจังหวัด
 ฯ การแต่งกาย เครื่องแบบปกต
 ิขาว ไว้ทุกข์ ไม่สวมหมวก 
LOCATION:
END:VEVENT
END:VCALENDAR
