BEGIN:VCALENDAR
VERSION:2.0
PRODID:-//chikkutakku.com//RDFCal 1.0//EN
X-WR-CALDESC:GoogleカレンダーやiCalendar形式情報を共有シェ
 アしましょう。近所のイベントから全国のイベントま
 で今日のイベント検索やスケジュールを決めるならち
 っくたっく
X-WR-CALNAME:ちっくたっく
X-WR-TIMEZONE:UTC
BEGIN:VEVENT
SUMMARY:【広島】温井ダム「中位標高放流設備からの放流
 」実施日
DTSTART;VALUE=DATE:20260509
DTEND;VALUE=DATE:20260510
UID:144496436652
DESCRIPTION:平日　基本は11時から　※状況により14時から
 になることがあります\n土日　11時・14時の2回実施\n\nhtt
 ps://www.cgr.mlit.go.jp/nukui/press/pdf/kisya20260227.pdf
LOCATION:
END:VEVENT
END:VCALENDAR
