BEGIN:VCALENDAR
VERSION:2.0
PRODID:-//chikkutakku.com//RDFCal 1.0//EN
X-WR-CALDESC:GoogleカレンダーやiCalendar形式情報を共有シェ
 アしましょう。近所のイベントから全国のイベントま
 で今日のイベント検索やスケジュールを決めるならち
 っくたっく
X-WR-CALNAME:ちっくたっく
X-WR-TIMEZONE:UTC
BEGIN:VEVENT
SUMMARY:サマサマ塾
DTSTART;VALUE=DATE:20260425
DTEND;VALUE=DATE:20260426
UID:144719211225
DESCRIPTION:4月のサマサマ研究会のご案内です。今回は、
 万博公園にてスケッチ大会を行ないます（雨天の場合
 は、展示場にてスケッチをします）。 日時：4月26日（
 日）午後１時１５分〜会場：国立民族学博物館２階　
 第３セミナー室 セミナー室に集合し、その後、万博公
 園に向かいます。万博公園の入園の際には、療育手帳
 が必要になりますので、ご持参ください。 万博公園内
 の木々や草花、虫や鳥、建物や風景など、すきなもの
 を鉛筆等でスケッチして、セミナー室にて色鉛筆やペ
 ンで色付けをしていただく予定ですが、終わりの時間
 まで公園でスケッチをし続けてもらっても大丈夫です
 。小さめの画用紙とボードを用意しますので、何枚で
 も描いていただけます。 筆記用具等は用意しておきま
 すが、スケッチしやすい鉛筆などをご持参していただ
 いて構いません。 参加希望のご連絡の際に、塾生の氏
 名および付き添いの方の氏名をお知らせください。ご
 住所や連絡先、所属先などの変更がある場合はお知ら
 せください。
LOCATION:
END:VEVENT
END:VCALENDAR
