BEGIN:VCALENDAR
VERSION:2.0
PRODID:-//chikkutakku.com//RDFCal 1.0//EN
X-WR-CALDESC:GoogleカレンダーやiCalendar形式情報を共有シェ
 アしましょう。近所のイベントから全国のイベントま
 で今日のイベント検索やスケジュールを決めるならち
 っくたっく
X-WR-CALNAME:ちっくたっく
X-WR-TIMEZONE:UTC
BEGIN:VEVENT
SUMMARY:BAR＆HOST TWINFANG NIGHTーhost営業日ー
DTSTART;VALUE=DATE-TIME:20260426T130000Z
DTEND;VALUE=DATE-TIME:20260426T140000Z
UID:144884818053
DESCRIPTION:【イベント主催者】\n　ao_0262\n【イベント内容
 】\n　『ねぇ…犬系の僕と猫系の僕どっちを選ぶ？』\n 
 犬猫系×弟系 VRCイベント\n「BAR＆HOST TWINFANG NIGHT」\n 月3
 回不定期 22時〜23時 営業中\nXハッシュタグ ＃TFN_bar_host\
 n【イベントジャンル】\n　店舗系イベント\, ロールプ
 レイ\, 定期イベント\n【参加条件（モデル、人数制限な
 ど）】\n　------イベントルール------\n・アバター容量40MB
 以下推奨【人型アバター推奨（手足あり、人型アバタ
 ー同様の身長）】\n・イベント中はネームプレート非表
 示\n・イベント中のフレンド申請禁止\n・武器系統ギミ
 ックや過度なパーティクルの使用禁止\n・無断での動画
 撮影や配信の禁止\n・誹謗中傷禁止\n・キャストとのス
 キンシップについては各キャストに確認の上お願いい
 たします\n【参加方法】\n　オーナー『ao_0262』にフレン
 ド申請後21時45分～55分までにリクイン\n【備考】\n　　X
 : https://x.com/FANG_PAW_GROUP
LOCATION:
END:VEVENT
END:VCALENDAR
