BEGIN:VCALENDAR
VERSION:2.0
PRODID:-//chikkutakku.com//RDFCal 1.0//EN
X-WR-CALDESC:GoogleカレンダーやiCalendar形式情報を共有シェ
 アしましょう。近所のイベントから全国のイベントま
 で今日のイベント検索やスケジュールを決めるならち
 っくたっく
X-WR-CALNAME:ちっくたっく
X-WR-TIMEZONE:UTC
BEGIN:VEVENT
SUMMARY:ASA Outreach Event-Durango
DTSTART;VALUE=DATE:20260420
DTEND;VALUE=DATE:20260421
UID:145116133988
DESCRIPTION:ASA will be at Santa Rita Park in Durango from 12PM-4PM to sha
 re all the different opportunities to be involved! See you there!
LOCATION:
END:VEVENT
END:VCALENDAR
