BEGIN:VCALENDAR
VERSION:2.0
PRODID:-//chikkutakku.com//RDFCal 1.0//EN
X-WR-CALDESC:GoogleカレンダーやiCalendar形式情報を共有シェ
 アしましょう。近所のイベントから全国のイベントま
 で今日のイベント検索やスケジュールを決めるならち
 っくたっく
X-WR-CALNAME:ちっくたっく
X-WR-TIMEZONE:UTC
BEGIN:VEVENT
SUMMARY:(นพ.สสจ)ประธานในพิธีฌาปน
 กิจศพ นายโชติ แก้วละมุล บิ
 ดา ผช.สสอ.ห้วยทับทัน ณ เมรุว
 ัดบ้านกู่ ตำบลกู่ อำเภอปรา
 งค์กู่
DTSTART;VALUE=DATE-TIME:20260424T063000Z
DTEND;VALUE=DATE-TIME:20260424T073000Z
UID:145245781690
DESCRIPTION:(นพ.สสจ)ประธานในพิธีฌา
 ปนกิจศพ นายโชติ แก้วละมุล 
 บิดา ผช.สสอ.ห้วยทับทัน ณ เมร
 ุวัดบ้านกู่ ตำบลกู่ อำเภอป
 รางค์กู่
LOCATION:
END:VEVENT
END:VCALENDAR
