BEGIN:VCALENDAR
VERSION:2.0
PRODID:-//chikkutakku.com//RDFCal 1.0//EN
X-WR-CALDESC:GoogleカレンダーやiCalendar形式情報を共有シェ
 アしましょう。近所のイベントから全国のイベントま
 で今日のイベント検索やスケジュールを決めるならち
 っくたっく
X-WR-CALNAME:ちっくたっく
X-WR-TIMEZONE:UTC
BEGIN:VEVENT
SUMMARY:恵那 Live BAR Stage64
DTSTART;VALUE=DATE-TIME:20260509T083000Z
DTEND;VALUE=DATE-TIME:20260509T123000Z
UID:145562046530
DESCRIPTION:5/9（土）恵那市 Live BAR Stage64\nOPEN 18:00 START 19:00
 \nLIVE CHARGE ·2\,000+ORDER\n出演：森香、モリヒデヤ、他\nOta
 ge64 090-4214-0069\n岐阜県恵那市長島町正家２丁目2-11
LOCATION:
END:VEVENT
END:VCALENDAR
