BEGIN:VCALENDAR
VERSION:2.0
PRODID:-//chikkutakku.com//RDFCal 1.0//EN
X-WR-CALDESC:GoogleカレンダーやiCalendar形式情報を共有シェ
 アしましょう。近所のイベントから全国のイベントま
 で今日のイベント検索やスケジュールを決めるならち
 っくたっく
X-WR-CALNAME:ちっくたっく
X-WR-TIMEZONE:UTC
BEGIN:VEVENT
SUMMARY:HSF Seminar - ICFA data lifecycle panel recommendations
DTSTART;VALUE=DATE-TIME:20260429T143000Z
DTEND;VALUE=DATE-TIME:20260429T160000Z
UID:145686829915
DESCRIPTION:Event URL: https://indico.cern.ch/event/1642428/\n\nThe HEP So
 ftware Foundation\nThe HEP Software Foundation facilitates cooperation an
 d common efforts in High Energy Physics software and computing internation
 ally. There are several focus activity areas: Data analysis\, detector si
 mulation\, physics generators\, pyHEP\, Julia in HEP\, reconstruction and 
 software triggers\, software developer tools and packaging\, and training.
 The HSF hosts workshops\, provides strategic input and generally raises aw
 areness on the importance of HEP software.\nSign up to HSF mailing lists h
 ere.\nHSF Seminars\nHSF Seminars are nominally hosted on the last Wednesda
 y of each month. Presentations are recorded (given consent) and put on You
 Tube.See the full series on indico here!\nSign up to announcements for fut
 ure HSF seminars as well as other HSF events by joining hsf-forum@googlegr
 oups.com (sign up instructions).\nHave a seminar topic idea? Send an email
  to hsf-seminar-conveners@googlegroups.com (current organisers are Nicole 
 Skidmore\, Michel Jouvin and Claire Antel)\n \n\nhttps://indico.cern.ch/e
 vent/1642428/\n\nZoom: https://cern.zoom.us/j/65676140079?pwd=pH7VereIbjfV
 85ho0woMGAhFDAUmjM.1
LOCATION:42/3-032 (CERN)
END:VEVENT
END:VCALENDAR
