BEGIN:VCALENDAR
VERSION:2.0
PRODID:-//chikkutakku.com//RDFCal 1.0//EN
X-WR-CALDESC:GoogleカレンダーやiCalendar形式情報を共有シェ
 アしましょう。近所のイベントから全国のイベントま
 で今日のイベント検索やスケジュールを決めるならち
 っくたっく
X-WR-CALNAME:ちっくたっく
X-WR-TIMEZONE:UTC
BEGIN:VEVENT
SUMMARY:【第二部：ホスト】Miroir Vail
DTSTART;VALUE=DATE-TIME:20260422T140000Z
DTEND;VALUE=DATE-TIME:20260422T145500Z
UID:145690723902
DESCRIPTION:【イベント主催者】\n　結先/けつざき\n【イベ
 ント内容】\n　【第二部：ホスト】\nひとりのキャスト
 がホストとキャバクラ風の接客をする"二面性"をテーマ
 にした1:1接客VRChatイベント\n【イベントジャンル】\n　
 店舗系イベント\n【参加条件（モデル、人数制限など）
 】\n　・未成年（高校生以下）の来店は禁止\n・録音、
 録画配信禁止\n・版権アバターの禁止\n・過度なパーテ
 ィクルや音の出るアバターの禁止\n・アバターサイズが
 50MB以下\n・イベント中フレンド申請禁止\n・NSFWに関す
 る行為の禁止\n・お客様からの接触は禁止\n・荒らし行
 為、誹謗中傷嫌がらせ行為の禁止\n・イベント中の勧誘
 行為の禁止\n※その他運営スタッフの指示・案内をご理
 解いただけない場合、以後の利用をお断りする（ご退
 店いただく）場合がございます。\n【参加方法】\n　グ
 ループ（https://vrchat.com/home/group/grp_aacd69e0-6b35-4c98-a028-6be0
 7a677bbe ）に参加しグループインスタンスへジョイン\n\n
 【備考】\n　↓↓↓イベントXはこちら↓↓↓\nhttps://x.co
 m/MiroirVail_vrc
LOCATION:
END:VEVENT
END:VCALENDAR
