BEGIN:VCALENDAR
VERSION:2.0
PRODID:-//chikkutakku.com//RDFCal 1.0//EN
X-WR-CALDESC:GoogleカレンダーやiCalendar形式情報を共有シェ
 アしましょう。近所のイベントから全国のイベントま
 で今日のイベント検索やスケジュールを決めるならち
 っくたっく
X-WR-CALNAME:ちっくたっく
X-WR-TIMEZONE:UTC
BEGIN:VEVENT
SUMMARY:絵本の読み語り
DTSTART;VALUE=DATE-TIME:20260518T150000Z
DTEND;VALUE=DATE-TIME:20260518T150000Z
UID:145801751792
DESCRIPTION:絵本の読み語りボランティアグループの「Ｚ
 ＯＯ人」（ずーっと）の皆さんが楽しい動物の絵本の
 読み語りを行います。
LOCATION:
END:VEVENT
END:VCALENDAR
