BEGIN:VCALENDAR
VERSION:2.0
PRODID:-//chikkutakku.com//RDFCal 1.0//EN
X-WR-CALDESC:GoogleカレンダーやiCalendar形式情報を共有シェ
 アしましょう。近所のイベントから全国のイベントま
 で今日のイベント検索やスケジュールを決めるならち
 っくたっく
X-WR-CALNAME:ちっくたっく
X-WR-TIMEZONE:UTC
BEGIN:VEVENT
SUMMARY:e:会話が続く!リアル旅英語(12)
DTSTART;VALUE=DATE-TIME:20260422T021000Z
DTEND;VALUE=DATE-TIME:20260422T022000Z
UID:145922941626
DESCRIPTION:#ウエンツ瑛士\nhttps://www.web.nhk/tv/an/tabieigo/pl/ser
 ies-tep-J8RQQ1ZX4X\n(月)〜(水)11:10-11:20\n(金)〜(日)00:30-00:40[再
 放送]\n\nhttps://www.web.nhk/tv/an/tabieigo/pl/series-tep-J8RQQ1ZX4X/ep/
 L8GQ397P16\n(12)デビーさん家「コレクションを見せてもら
 う」\n\n【今日の聞き取りチャレンジ】\n観光案内所で
 働くデビーさん。暮らしているのは歴史を刻んだ素敵
 な家です。デビーさんにコレクションを見せてもらい
 ました。リアルな英語を聞き取ってみましょう！
LOCATION:Eテレ
END:VEVENT
END:VCALENDAR
