BEGIN:VCALENDAR
VERSION:2.0
PRODID:-//chikkutakku.com//RDFCal 1.0//EN
X-WR-CALDESC:GoogleカレンダーやiCalendar形式情報を共有シェ
 アしましょう。近所のイベントから全国のイベントま
 で今日のイベント検索やスケジュールを決めるならち
 っくたっく
X-WR-CALNAME:ちっくたっく
X-WR-TIMEZONE:UTC
BEGIN:VEVENT
SUMMARY:やすらぎのうたコンサート＠海南　ふれあいホー
 ル
DTSTART;VALUE=DATE-TIME:20260425T050000Z
DTEND;VALUE=DATE-TIME:20260425T070000Z
UID:145929962073
DESCRIPTION:http://cclive.ikora.tv/e1598653.html
LOCATION:海南市民交流センタ－　ふれあいホール　海南
 市下津町下津500-1
END:VEVENT
END:VCALENDAR
