BEGIN:VCALENDAR
VERSION:2.0
PRODID:-//chikkutakku.com//RDFCal 1.0//EN
X-WR-CALDESC:GoogleカレンダーやiCalendar形式情報を共有シェ
 アしましょう。近所のイベントから全国のイベントま
 で今日のイベント検索やスケジュールを決めるならち
 っくたっく
X-WR-CALNAME:ちっくたっく
X-WR-TIMEZONE:UTC
BEGIN:VEVENT
SUMMARY:【注】進化の実～知らないうちに勝ち組人生～ #1
  知らないうちに異世界人生！ / #2 最終進化！裸の美女 
 / #3 災厄のアルトリア / #4 黒龍神の迷宮 / #5 災厄の花嫁
  / #6 異世界の中心で愛を叫ぶ / #7 ルルネ登場！ / #8 剣
 聖の戦乙女(ワルキューレ)の美女 / #9 黒猫のオリガ / #10
  忍び寄るカイゼル帝国 / #11 魔物VSイカしたギルド / #12 
 知らないうちに最終回!?
DTSTART;VALUE=DATE-TIME:20260421T110000Z
DTEND;VALUE=DATE-TIME:20260421T170000Z
UID:146187764245
DESCRIPTION: / #1 知らないうちに異世界人生！ / #2 最終進
 化！裸の美女 / #3 災厄のアルトリア / #4 黒龍神の迷宮 /
  #5 災厄の花嫁 / #6 異世界の中心で愛を叫ぶ / #7 ルルネ
 登場！ / #8 剣聖の戦乙女(ワルキューレ)の美女 / #9 黒猫
 のオリガ / #10 忍び寄るカイゼル帝国 / #11 魔物VSイカし
 たギルド / #12 知らないうちに最終回!? / ([[アニメSPECIAL2
  https://abema.tv/timetable/channels/anime-special-2]]) https://abema.tv/c
 hannels/anime-special-2/slots/Ah77m7T67g9J9V リピート放送は 4/22(
 水) 8:00～ https://abema.tv/channels/anime-special-2/slots/AkN7Whocp7Gjh
 q 、4/22(水) 14:00～ https://abema.tv/channels/anime-special-2/slots/Ak
 N7Xcw4XGWNcf (無料TS1週間)
LOCATION:ABEMA特設その他
END:VEVENT
END:VCALENDAR
