BEGIN:VCALENDAR
VERSION:2.0
PRODID:-//chikkutakku.com//RDFCal 1.0//EN
X-WR-CALDESC:GoogleカレンダーやiCalendar形式情報を共有シェ
 アしましょう。近所のイベントから全国のイベントま
 で今日のイベント検索やスケジュールを決めるならち
 っくたっく
X-WR-CALNAME:ちっくたっく
X-WR-TIMEZONE:UTC
BEGIN:VEVENT
SUMMARY:お前ら早く結婚しろよっ！３　そう言われてる女
 子と結婚するまで【電子特典付き】
DTSTART;VALUE=DATE:20260423
DTEND;VALUE=DATE:20260424
UID:146286668210
DESCRIPTION:2026-04-24お前ら早く結婚しろよっ！３　そう言
 われてる女子と結婚するまで【電子特典付き】優汰/ま
 るろKADOKAWA
LOCATION:
END:VEVENT
END:VCALENDAR
