BEGIN:VCALENDAR
VERSION:2.0
PRODID:-//chikkutakku.com//RDFCal 1.0//EN
X-WR-CALDESC:GoogleカレンダーやiCalendar形式情報を共有シェ
 アしましょう。近所のイベントから全国のイベントま
 で今日のイベント検索やスケジュールを決めるならち
 っくたっく
X-WR-CALNAME:ちっくたっく
X-WR-TIMEZONE:UTC
BEGIN:VEVENT
SUMMARY:【楽天ブックス限定全巻購入特典+全巻購入特典
 】呪術廻戦 死滅回游 前編 Vol.2 初回生産限定版【Blu-ray
 】(描き下ろし流砂アクリルブロック(パネル)+描き下ろ
 し缶バッジ2個セット+描き下ろし全巻収納BOX)
DTSTART;VALUE=DATE:20260519
DTEND;VALUE=DATE:20260520
UID:146617070732
DESCRIPTION:2026-05-20【楽天ブックス限定全巻購入特典+全巻
 購入特典】呪術廻戦 死滅回游 前編 Vol.2 初回生産限定
 版【Blu-ray】(描き下ろし流砂アクリルブロック(パネル)+
 描き下ろし缶バッジ2個セット+描き下ろし全巻収納BOX)
 芥見下々/榎木淳弥/内田雄馬/小松未可子/関智一/矢島陽
 介/丹羽弘美/照井順政東宝(株)
LOCATION:
END:VEVENT
END:VCALENDAR
