BEGIN:VCALENDAR
VERSION:2.0
PRODID:-//chikkutakku.com//RDFCal 1.0//EN
X-WR-CALDESC:GoogleカレンダーやiCalendar形式情報を共有シェ
 アしましょう。近所のイベントから全国のイベントま
 で今日のイベント検索やスケジュールを決めるならち
 っくたっく
X-WR-CALNAME:ちっくたっく
X-WR-TIMEZONE:UTC
BEGIN:VEVENT
SUMMARY:野生動物が接客するカフェ「サファリカフェ」
DTSTART;VALUE=DATE-TIME:20260426T140000Z
DTEND;VALUE=DATE-TIME:20260426T145900Z
UID:146834835905
DESCRIPTION:【イベント主催者】\n　ぱたぽんぽ\n【イベン
 ト内容】\n　人の言葉はある程度分かるけど、人の言葉
 が喋れない野性動物たちが接客するカフェです。\n通常
 とはちがう動物カフェを味わい方はぜひご来店くださ
 い。\n【イベントジャンル】\n　店舗系イベント\, ロー
 ルプレイ\n【参加条件（モデル、人数制限など）】\n　
 鳴き声のみの接客でも大丈夫な方\n常識ある方\n【参加
 方法】\n　グループ+インスタンス開きます。\n「ANIMAL.57
 41」に参加してjoin\n【備考】\n　店員は、鳴き声でしか
 喋らないため入口のルールをきちんと読んでください
 。\n迷惑行為等を確認した場合キックする場合がござい
 ますのであらかじめご了承ください。
LOCATION:
END:VEVENT
END:VCALENDAR
