BEGIN:VCALENDAR
VERSION:2.0
PRODID:-//chikkutakku.com//RDFCal 1.0//EN
X-WR-CALDESC:GoogleカレンダーやiCalendar形式情報を共有シェ
 アしましょう。近所のイベントから全国のイベントま
 で今日のイベント検索やスケジュールを決めるならち
 っくたっく
X-WR-CALNAME:ちっくたっく
X-WR-TIMEZONE:UTC
BEGIN:VEVENT
SUMMARY:安城 papa cafe
DTSTART;VALUE=DATE-TIME:20260524T080000Z
DTEND;VALUE=DATE-TIME:20260524T110000Z
UID:146966574128
DESCRIPTION:5/24（日）安城 papa cafe\n沖縄の最高のベースと
 森香によるでらハッピィな音楽を楽しむ会。\nゲスト：
 めぐ&けんご\nopen14:30 start15:00\n2500円1d付\n愛知県安城市
 住吉町７丁目7−５\n0566-55-1977
LOCATION:
END:VEVENT
END:VCALENDAR
