BEGIN:VCALENDAR
VERSION:2.0
PRODID:-//chikkutakku.com//RDFCal 1.0//EN
X-WR-CALDESC:GoogleカレンダーやiCalendar形式情報を共有シェ
 アしましょう。近所のイベントから全国のイベントま
 で今日のイベント検索やスケジュールを決めるならち
 っくたっく
X-WR-CALNAME:ちっくたっく
X-WR-TIMEZONE:UTC
BEGIN:VEVENT
SUMMARY:RATS AGM 2026
DTSTART;VALUE=DATE-TIME:20260425T133000Z
DTEND;VALUE=DATE-TIME:20260425T163000Z
UID:147428798599
DESCRIPTION:Stephen Tompsett is inviting you to a scheduled Zoom meeting.\
 nJoin Zoom Meeting\nhttps://us02web.zoom.us/j/89581923979?pwd=xvYuaD1fi48Y
 IwyewkSLAG2RGgubiu.1\n\nMeeting ID: 895 8192 3979\nPasscode: 848270\n\n---
 \n\nOne tap mobile\n+442080806592\,\,89581923979#\,\,\,\,*848270# United K
 ingdom\n+443300885830\,\,89581923979#\,\,\,\,*848270# United Kingdom\n\n\n
 ---\n\nJoin by SIP\n• 89581923979@zoomcrc.com\n\nJoin instructions\nhttp
 s://us02web.zoom.us/meetings/89581923979/invitations?signature=DoewOF0sSpG
 vZHAIsFA9uCuEFLWEIFZgIv1014IaYd4\n\n
LOCATION:https://us02web.zoom.us/j/89581923979?pwd=xvYuaD1fi48YIwyewkSLAG2
 RGgubiu.1
END:VEVENT
END:VCALENDAR
