BEGIN:VCALENDAR
VERSION:2.0
PRODID:-//chikkutakku.com//RDFCal 1.0//EN
X-WR-CALDESC:GoogleカレンダーやiCalendar形式情報を共有シェ
 アしましょう。近所のイベントから全国のイベントま
 で今日のイベント検索やスケジュールを決めるならち
 っくたっく
X-WR-CALNAME:ちっくたっく
X-WR-TIMEZONE:UTC
BEGIN:VEVENT
SUMMARY:ssmonline #51
DTSTART;VALUE=DATE-TIME:20260525T100000Z
DTEND;VALUE=DATE-TIME:20260525T120000Z
UID:147598044210
DESCRIPTION:https://ssmjp.connpass.com/event/388137/
LOCATION:オンライン
END:VEVENT
END:VCALENDAR
