BEGIN:VCALENDAR
VERSION:2.0
PRODID:-//chikkutakku.com//RDFCal 1.0//EN
X-WR-CALDESC:GoogleカレンダーやiCalendar形式情報を共有シェ
 アしましょう。近所のイベントから全国のイベントま
 で今日のイベント検索やスケジュールを決めるならち
 っくたっく
X-WR-CALNAME:ちっくたっく
X-WR-TIMEZONE:UTC
BEGIN:VEVENT
SUMMARY:【TAGERI】久アバターコンセプトビリヤードバー
DTSTART;VALUE=DATE-TIME:20260517T120000Z
DTEND;VALUE=DATE-TIME:20260517T133000Z
UID:147972272954
DESCRIPTION:【イベント主催者】\n　Seia_Sparkler\n【イベント
 内容】\n　久アバターコンセプトのビリヤードバーです
 。\n久アバター以外のお客様も大歓迎です！\n※デスク
 トップでもビリヤードできます！キャストが丁寧に解
 説いたします！\n【イベントジャンル】\n　改変アバタ
 ー交流会\, 店舗系イベント\, 定期イベント\n【参加条件
 （モデル、人数制限など）】\n　・PCVR\n・インスタンス
 上限25名（内スタッフ4～6名程）（待機列有）\n・公序
 良俗に反する行為をしない方\n【参加方法】\n　グルー
 プ【TAGERI】へ加入後、時間になったらグループ＋イン
 スタンスへjoinしてください。\n又はVRCID【Seia_Sparkler】
 へフレンド申請後、時間になったらjoinしてください。\
 nグループコード【TAGERI.9999】\n【備考】\n　店舗ワール
 ドへjoinしたら必ず左側の【TAGERIへようこそ】をお読み
 下さい。\nイベント公式Xアカウント【@TAGERI_poolbar】\nオ
 ーナーXアカウント【@se_se_1204】
LOCATION:
END:VEVENT
END:VCALENDAR
