BEGIN:VCALENDAR
VERSION:2.0
PRODID:-//chikkutakku.com//RDFCal 1.0//EN
X-WR-CALDESC:GoogleカレンダーやiCalendar形式情報を共有シェ
 アしましょう。近所のイベントから全国のイベントま
 で今日のイベント検索やスケジュールを決めるならち
 っくたっく
X-WR-CALNAME:ちっくたっく
X-WR-TIMEZONE:UTC
BEGIN:VEVENT
SUMMARY:マフィア系ホストイベント【CORSO】
DTSTART;VALUE=DATE-TIME:20260421T133000Z
DTEND;VALUE=DATE-TIME:20260421T143000Z
UID:148516009743
DESCRIPTION:【イベント主催者】\n　ya4z\n【イベント内容】
 \n　　基本1on1の接客型イベントです。\n1時間の開催を
 想定しております（20分×1回のローテーション）\n【イ
 ベントジャンル】\n　店舗系イベント\, ロールプレイ\n
 【参加条件（モデル、人数制限など）】\n　　・PCオン
 リー・VCオンリー・日本語オンリー\n・ご使用のアバタ
 ーは、ダウンロードサイズ50MB以下でお願い致します。\
 n\n〜禁止事項〜\n・画面共有、録画、録音\n・荒らし行
 為\n・キャストへのフレンド申請\n\nグループ参加の上
 グループのルール概要をご覧ください。\n【参加方法】
 \n　Xアカウントフォローの上\nGoogleフォームよりご応募
 お待ちしております。\n【備考】\n　　こちらがXアカウ
 ント　https://x.com/CORSO17361\n\nこちらがグループのリンク
 　https://vrchat.com/home/group/grp_a54c8e9a-55e5-4c6b-89ca-2b831be80d07
LOCATION:
END:VEVENT
END:VCALENDAR
